BEGIN:VCALENDAR
VERSION:2.0
PRODID:-//Atelier Lineart - ECPv6.15.20//NONSGML v1.0//EN
CALSCALE:GREGORIAN
METHOD:PUBLISH
X-WR-CALNAME:Atelier Lineart
X-ORIGINAL-URL:https://atelier-lineart.de
X-WR-CALDESC:Veranstaltungen für Atelier Lineart
REFRESH-INTERVAL;VALUE=DURATION:PT1H
X-Robots-Tag:noindex
X-PUBLISHED-TTL:PT1H
BEGIN:VTIMEZONE
TZID:Europe/Berlin
BEGIN:DAYLIGHT
TZOFFSETFROM:+0100
TZOFFSETTO:+0200
TZNAME:CEST
DTSTART:20240331T010000
END:DAYLIGHT
BEGIN:STANDARD
TZOFFSETFROM:+0200
TZOFFSETTO:+0100
TZNAME:CET
DTSTART:20241027T010000
END:STANDARD
BEGIN:DAYLIGHT
TZOFFSETFROM:+0100
TZOFFSETTO:+0200
TZNAME:CEST
DTSTART:20250330T010000
END:DAYLIGHT
BEGIN:STANDARD
TZOFFSETFROM:+0200
TZOFFSETTO:+0100
TZNAME:CET
DTSTART:20251026T010000
END:STANDARD
BEGIN:DAYLIGHT
TZOFFSETFROM:+0100
TZOFFSETTO:+0200
TZNAME:CEST
DTSTART:20260329T010000
END:DAYLIGHT
BEGIN:STANDARD
TZOFFSETFROM:+0200
TZOFFSETTO:+0100
TZNAME:CET
DTSTART:20261025T010000
END:STANDARD
END:VTIMEZONE
BEGIN:VEVENT
DTSTART;TZID=Europe/Berlin:20250926T190000
DTEND;TZID=Europe/Berlin:20250928T160000
DTSTAMP:20260422T032331
CREATED:20250602T134815Z
LAST-MODIFIED:20250606T162417Z
UID:11846-1758913200-1759075200@atelier-lineart.de
SUMMARY:Wochenendkurs Radierung
DESCRIPTION:
URL:https://atelier-lineart.de/event/wochenendkurs-radierung-9/
LOCATION:Atelier lineart
ATTACH;FMTTYPE=image/jpeg:https://atelier-lineart.de/wp-content/uploads/2024/11/C.Frau_.jpg
ORGANIZER;CN="Claudia Schmidt":MAILTO:hannover@atelier-lineart.de
END:VEVENT
END:VCALENDAR