BEGIN:VCALENDAR
VERSION:2.0
PRODID:-//Atelier Lineart - ECPv6.15.20//NONSGML v1.0//EN
CALSCALE:GREGORIAN
METHOD:PUBLISH
X-WR-CALNAME:Atelier Lineart
X-ORIGINAL-URL:https://atelier-lineart.de
X-WR-CALDESC:Veranstaltungen für Atelier Lineart
REFRESH-INTERVAL;VALUE=DURATION:PT1H
X-Robots-Tag:noindex
X-PUBLISHED-TTL:PT1H
BEGIN:VTIMEZONE
TZID:Europe/Berlin
BEGIN:DAYLIGHT
TZOFFSETFROM:+0100
TZOFFSETTO:+0200
TZNAME:CEST
DTSTART:20240331T010000
END:DAYLIGHT
BEGIN:STANDARD
TZOFFSETFROM:+0200
TZOFFSETTO:+0100
TZNAME:CET
DTSTART:20241027T010000
END:STANDARD
BEGIN:DAYLIGHT
TZOFFSETFROM:+0100
TZOFFSETTO:+0200
TZNAME:CEST
DTSTART:20250330T010000
END:DAYLIGHT
BEGIN:STANDARD
TZOFFSETFROM:+0200
TZOFFSETTO:+0100
TZNAME:CET
DTSTART:20251026T010000
END:STANDARD
BEGIN:DAYLIGHT
TZOFFSETFROM:+0100
TZOFFSETTO:+0200
TZNAME:CEST
DTSTART:20260329T010000
END:DAYLIGHT
BEGIN:STANDARD
TZOFFSETFROM:+0200
TZOFFSETTO:+0100
TZNAME:CET
DTSTART:20261025T010000
END:STANDARD
END:VTIMEZONE
BEGIN:VEVENT
DTSTART;TZID=Europe/Berlin:20250906T110000
DTEND;TZID=Europe/Berlin:20250906T170000
DTSTAMP:20260422T034530
CREATED:20250606T161626Z
LAST-MODIFIED:20250804T124555Z
UID:11908-1757156400-1757178000@atelier-lineart.de
SUMMARY:Motive suchen - Lichtblicke finden
DESCRIPTION:
URL:https://atelier-lineart.de/event/motive-suchen-lichtblicke-finden/
LOCATION:Ort wird noch bekannt gegeben\, Niedersachsen\, 31535\, Germany
ATTACH;FMTTYPE=image/jpeg:https://atelier-lineart.de/wp-content/uploads/2020/08/Erstes-Sichtung.jpg
ORGANIZER;CN="Claudia Schmidt":MAILTO:hannover@atelier-lineart.de
END:VEVENT
END:VCALENDAR