BEGIN:VCALENDAR
VERSION:2.0
PRODID:-//Atelier Lineart - ECPv6.15.20//NONSGML v1.0//EN
CALSCALE:GREGORIAN
METHOD:PUBLISH
X-ORIGINAL-URL:https://atelier-lineart.de
X-WR-CALDESC:Veranstaltungen für Atelier Lineart
REFRESH-INTERVAL;VALUE=DURATION:PT1H
X-Robots-Tag:noindex
X-PUBLISHED-TTL:PT1H
BEGIN:VTIMEZONE
TZID:Europe/Berlin
BEGIN:DAYLIGHT
TZOFFSETFROM:+0100
TZOFFSETTO:+0200
TZNAME:CEST
DTSTART:20250330T010000
END:DAYLIGHT
BEGIN:STANDARD
TZOFFSETFROM:+0200
TZOFFSETTO:+0100
TZNAME:CET
DTSTART:20251026T010000
END:STANDARD
BEGIN:DAYLIGHT
TZOFFSETFROM:+0100
TZOFFSETTO:+0200
TZNAME:CEST
DTSTART:20260329T010000
END:DAYLIGHT
BEGIN:STANDARD
TZOFFSETFROM:+0200
TZOFFSETTO:+0100
TZNAME:CET
DTSTART:20261025T010000
END:STANDARD
BEGIN:DAYLIGHT
TZOFFSETFROM:+0100
TZOFFSETTO:+0200
TZNAME:CEST
DTSTART:20270328T010000
END:DAYLIGHT
BEGIN:STANDARD
TZOFFSETFROM:+0200
TZOFFSETTO:+0100
TZNAME:CET
DTSTART:20271031T010000
END:STANDARD
END:VTIMEZONE
BEGIN:VEVENT
DTSTART;TZID=Europe/Berlin:20260501T190000
DTEND;TZID=Europe/Berlin:20260503T160000
DTSTAMP:20260421T215014
CREATED:20251201T110337Z
LAST-MODIFIED:20260317T140355Z
UID:13361-1777662000-1777824000@atelier-lineart.de
SUMMARY:Wochenendkurs Radierung (noch 2 Plätze frei)
DESCRIPTION:Auf Zinkplatten werden Vertiefungen erzeugt\, in die später Farbe gewischt wird\, bevor die Platte dann mit einem feuchten Büttenpapier durch eine Presse gerollt wird.\nAn dem Wochenende geht es dabei sowohl um das Kennenlernen und Vertiefen verschiedener Ätztechniken\, als auch um das Experimentieren dann mit den fertigen Platten\, den Farben und dem Drucken. \nKosten 190€ + 25€ Material
URL:https://atelier-lineart.de/event/wochenendkurs-radierung-12/
LOCATION:Atelier lineart
ATTACH;FMTTYPE=image/jpeg:https://atelier-lineart.de/wp-content/uploads/2024/12/Rad.-Zw.toene_.jpg
ORGANIZER;CN="Claudia Schmidt":MAILTO:hannover@atelier-lineart.de
END:VEVENT
BEGIN:VEVENT
DTSTART;TZID=Europe/Berlin:20260529T190000
DTEND;TZID=Europe/Berlin:20260531T160000
DTSTAMP:20260421T215014
CREATED:20251201T112520Z
LAST-MODIFIED:20251201T112520Z
UID:13368-1780081200-1780243200@atelier-lineart.de
SUMMARY:Wochenendkurs Radierung
DESCRIPTION:Auf Zinkplatten werden Vertiefungen erzeugt\, in die später Farbe gewischt wird\, bevor die Platte dann mit einem feuchten Büttenpapier durch eine Presse gerollt wird.\nAn dem Wochenende geht es dabei sowohl um das Kennenlernen und Vertiefen verschiedener Ätztechniken\, als auch um das Experimentieren dann mit den fertigen Platten\, den Farben und dem Drucken. \nKosten 190€ + 25€ Material
URL:https://atelier-lineart.de/event/wochenendkurs-radierung-14/
LOCATION:Atelier lineart
ATTACH;FMTTYPE=image/jpeg:https://atelier-lineart.de/wp-content/uploads/2020/03/Triptychon-Rad..jpg
ORGANIZER;CN="Claudia Schmidt":MAILTO:hannover@atelier-lineart.de
END:VEVENT
END:VCALENDAR