BEGIN:VCALENDAR
VERSION:2.0
PRODID:-//Atelier Lineart - ECPv6.15.20//NONSGML v1.0//EN
CALSCALE:GREGORIAN
METHOD:PUBLISH
X-ORIGINAL-URL:https://atelier-lineart.de
X-WR-CALDESC:Veranstaltungen für Atelier Lineart
REFRESH-INTERVAL;VALUE=DURATION:PT1H
X-Robots-Tag:noindex
X-PUBLISHED-TTL:PT1H
BEGIN:VTIMEZONE
TZID:Europe/Berlin
BEGIN:DAYLIGHT
TZOFFSETFROM:+0100
TZOFFSETTO:+0200
TZNAME:CEST
DTSTART:20220327T010000
END:DAYLIGHT
BEGIN:STANDARD
TZOFFSETFROM:+0200
TZOFFSETTO:+0100
TZNAME:CET
DTSTART:20221030T010000
END:STANDARD
BEGIN:DAYLIGHT
TZOFFSETFROM:+0100
TZOFFSETTO:+0200
TZNAME:CEST
DTSTART:20230326T010000
END:DAYLIGHT
BEGIN:STANDARD
TZOFFSETFROM:+0200
TZOFFSETTO:+0100
TZNAME:CET
DTSTART:20231029T010000
END:STANDARD
BEGIN:DAYLIGHT
TZOFFSETFROM:+0100
TZOFFSETTO:+0200
TZNAME:CEST
DTSTART:20240331T010000
END:DAYLIGHT
BEGIN:STANDARD
TZOFFSETFROM:+0200
TZOFFSETTO:+0100
TZNAME:CET
DTSTART:20241027T010000
END:STANDARD
BEGIN:DAYLIGHT
TZOFFSETFROM:+0100
TZOFFSETTO:+0200
TZNAME:CEST
DTSTART:20250330T010000
END:DAYLIGHT
BEGIN:STANDARD
TZOFFSETFROM:+0200
TZOFFSETTO:+0100
TZNAME:CET
DTSTART:20251026T010000
END:STANDARD
BEGIN:DAYLIGHT
TZOFFSETFROM:+0100
TZOFFSETTO:+0200
TZNAME:CEST
DTSTART:20260329T010000
END:DAYLIGHT
BEGIN:STANDARD
TZOFFSETFROM:+0200
TZOFFSETTO:+0100
TZNAME:CET
DTSTART:20261025T010000
END:STANDARD
BEGIN:DAYLIGHT
TZOFFSETFROM:+0100
TZOFFSETTO:+0200
TZNAME:CEST
DTSTART:20270328T010000
END:DAYLIGHT
BEGIN:STANDARD
TZOFFSETFROM:+0200
TZOFFSETTO:+0100
TZNAME:CET
DTSTART:20271031T010000
END:STANDARD
END:VTIMEZONE
BEGIN:VEVENT
DTSTART;TZID=Europe/Berlin:20260313T190000
DTEND;TZID=Europe/Berlin:20260315T160000
DTSTAMP:20260424T154942
CREATED:20251201T104631Z
LAST-MODIFIED:20251201T110819Z
UID:13359-1773428400-1773590400@atelier-lineart.de
SUMMARY:Nahes und Fernes - malen\, zeichnen\, ausprobieren
DESCRIPTION:Dieser Wochenendkurs richtet sich an alle\, die sich nicht dauerhaft festlegen möchten\, kontinuierlich kreativ tätig zu sein. Egal\, ob schon viel oder gar keine Vorerfahrung; hier können Sie Techniken kennenlernen und ausprobieren. In einer kleinen Gruppe von mindestens drei bis höchstens fünf TeilnehmerInnen begleite ich sehr individuell wohin für jede(n) die „Reise“ gehen kann. Dabei kann auf Acryl\, auf Kreide\, Aquarell\, Bleistift\, Kohle oder Buntstift zugegriffen werden. Die Motive sind frei und werden gemeinsam gesucht. Sowohl das Handwerkliche als auch das Inhaltliche spielen für das Ausprobieren der Techniken eine Rolle. \nKosten: 190€ + 25€ Material
URL:https://atelier-lineart.de/event/nahes-und-fernes-malen-zeichnen-ausprobieren/
LOCATION:Atelier lineart
ATTACH;FMTTYPE=image/jpeg:https://atelier-lineart.de/wp-content/uploads/2025/12/Warm-kalt.jpg
ORGANIZER;CN="Claudia Schmidt":MAILTO:hannover@atelier-lineart.de
END:VEVENT
BEGIN:VEVENT
DTSTART;TZID=Europe/Berlin:20251128T190000
DTEND;TZID=Europe/Berlin:20251130T160000
DTSTAMP:20260424T154942
CREATED:20250602T140147Z
LAST-MODIFIED:20250606T162111Z
UID:11851-1764356400-1764518400@atelier-lineart.de
SUMMARY:Wochenendkurs Radierung
DESCRIPTION:
URL:https://atelier-lineart.de/event/wochenendkurs-radierung-11/
LOCATION:Atelier lineart
ATTACH;FMTTYPE=image/jpeg:https://atelier-lineart.de/wp-content/uploads/2024/12/20070329_20.jpg
END:VEVENT
BEGIN:VEVENT
DTSTART;TZID=Europe/Berlin:20251114T190000
DTEND;TZID=Europe/Berlin:20251116T160000
DTSTAMP:20260424T154942
CREATED:20250602T135029Z
LAST-MODIFIED:20250606T162156Z
UID:11849-1763146800-1763308800@atelier-lineart.de
SUMMARY:Wochenendkurs Radierung
DESCRIPTION:
URL:https://atelier-lineart.de/event/wochenendkurs-radierung-10/
LOCATION:Atelier lineart
ATTACH;FMTTYPE=image/jpeg:https://atelier-lineart.de/wp-content/uploads/2020/05/S.O.-2.auf-5.-Chakra-Mitte.jpg
END:VEVENT
BEGIN:VEVENT
DTSTART;TZID=Europe/Berlin:20251112T190000
DTEND;TZID=Europe/Berlin:20251112T213000
DTSTAMP:20260424T154942
CREATED:20250610T074855Z
LAST-MODIFIED:20250610T074855Z
UID:11949-1762974000-1762983000@atelier-lineart.de
SUMMARY:eventuell Filmabend (intern)
DESCRIPTION:
URL:https://atelier-lineart.de/event/eventuell-filmabend-intern/
END:VEVENT
BEGIN:VEVENT
DTSTART;TZID=Europe/Berlin:20251030T183000
DTEND;TZID=Europe/Berlin:20251030T213000
DTSTAMP:20260424T154942
CREATED:20250602T140449Z
LAST-MODIFIED:20250602T140449Z
UID:11853-1761849000-1761859800@atelier-lineart.de
SUMMARY:Bergfest (intern)
DESCRIPTION:
URL:https://atelier-lineart.de/event/bergfest-intern/
LOCATION:Atelier lineart
ATTACH;FMTTYPE=image/jpeg:https://atelier-lineart.de/wp-content/uploads/2017/12/Bilder-schauen-I.jpg
END:VEVENT
BEGIN:VEVENT
DTSTART;TZID=Europe/Berlin:20251017T190000
DTEND;TZID=Europe/Berlin:20251019T160000
DTSTAMP:20260424T154942
CREATED:20250602T140850Z
LAST-MODIFIED:20250912T092025Z
UID:11855-1760727600-1760889600@atelier-lineart.de
SUMMARY:Wochenendkurs - Lichtblicke malen- Acryl + Kreide
DESCRIPTION:Kosten: 190€ + 25€ Material
URL:https://atelier-lineart.de/event/wochenendkurs-einfach-ausprobieren-acrylmalerei/
LOCATION:Atelier lineart
ATTACH;FMTTYPE=image/jpeg:https://atelier-lineart.de/wp-content/uploads/2021/04/Spielraum.jpg
END:VEVENT
BEGIN:VEVENT
DTSTART;TZID=Europe/Berlin:20250926T190000
DTEND;TZID=Europe/Berlin:20250928T160000
DTSTAMP:20260424T154942
CREATED:20250602T134815Z
LAST-MODIFIED:20250606T162417Z
UID:11846-1758913200-1759075200@atelier-lineart.de
SUMMARY:Wochenendkurs Radierung
DESCRIPTION:
URL:https://atelier-lineart.de/event/wochenendkurs-radierung-9/
LOCATION:Atelier lineart
ATTACH;FMTTYPE=image/jpeg:https://atelier-lineart.de/wp-content/uploads/2024/11/C.Frau_.jpg
ORGANIZER;CN="Claudia Schmidt":MAILTO:hannover@atelier-lineart.de
END:VEVENT
BEGIN:VEVENT
DTSTART;TZID=Europe/Berlin:20250906T110000
DTEND;TZID=Europe/Berlin:20250906T170000
DTSTAMP:20260424T154942
CREATED:20250606T161626Z
LAST-MODIFIED:20250804T124555Z
UID:11908-1757156400-1757178000@atelier-lineart.de
SUMMARY:Motive suchen - Lichtblicke finden
DESCRIPTION:
URL:https://atelier-lineart.de/event/motive-suchen-lichtblicke-finden/
LOCATION:Ort wird noch bekannt gegeben\, Niedersachsen\, 31535\, Germany
ATTACH;FMTTYPE=image/jpeg:https://atelier-lineart.de/wp-content/uploads/2020/08/Erstes-Sichtung.jpg
ORGANIZER;CN="Claudia Schmidt":MAILTO:hannover@atelier-lineart.de
END:VEVENT
BEGIN:VEVENT
DTSTART;TZID=Europe/Berlin:20250627T190000
DTEND;TZID=Europe/Berlin:20250629T170000
DTSTAMP:20260424T154942
CREATED:20241218T135445Z
LAST-MODIFIED:20250526T125935Z
UID:10608-1751050800-1751216400@atelier-lineart.de
SUMMARY:Malen auf dem Land
DESCRIPTION:Der Wochenendkurs findet im „Winkelhof“ in Müden an der Örtze statt. Das Grundstück grenzt direkt an den Fluss und bietet fantastische Möglichkeiten\, das Wasser zu zeichnen. Ebenso werden sich die TeilnehmerInnen mit Strukturen und Formen von Bäumen/ Stämmen und Blättern beschäftigen. Das Wochenende soll dazu beitragen\, sowohl zur Ruhe zu kommen\, die Natur zu genießen\, als auch\, mit Konzentration und Neugier sich auf die Bewegung des Wassers und die Bewegung der Linien der Rinden zu fokussieren. Im Wechsel von Mal- und Freizeit ist dieser Hof eine wunderbare Gelegenheit mit Gleichgesinnten in die Natur einzutauchen und sich mit ihr noch inniger zu verbinden. Dabei bleibt es den Teilnehmenden überlassen\, ob sie sich eher mit Bleistift\, Kohle\, Aquarell oder Kreide an die Wesen von Bäumen und Wasser herantasten. \nausgebucht!
URL:https://atelier-lineart.de/event/malen-auf-dem-land-5/
LOCATION:Müden an der Örtze
ATTACH;FMTTYPE=image/jpeg:https://atelier-lineart.de/wp-content/uploads/2024/12/Malen-frisch-und-frei.jpg
END:VEVENT
BEGIN:VEVENT
DTSTART;TZID=Europe/Berlin:20250625T183000
DTEND;TZID=Europe/Berlin:20250625T220000
DTSTAMP:20260424T154942
CREATED:20241219T123731Z
LAST-MODIFIED:20250602T122159Z
UID:10621-1750876200-1750888800@atelier-lineart.de
SUMMARY:Abschlussabend (dieses Mal öffentlich!)
DESCRIPTION:An diesem Abend wollen wir feiern\, was in dem Halbjahr entstanden ist. Und wir wollen es diesmal mit FreundInnen und Interessierten tun. Auch wenn es nicht viel Raum gibt\, um alles zu zeigen\, so versuchen wir dennoch die Arbeiten möglichst gut zu präsentieren. Aber es geht auch um das Beisammensein\, den Austausch und einfach einen schönen Abend mit euren köstlichen Kleinigkeiten…
URL:https://atelier-lineart.de/event/abschlussabend-2/
LOCATION:Atelier lineart
ATTACH;FMTTYPE=image/jpeg:https://atelier-lineart.de/wp-content/uploads/2024/12/Ausstellung.jpg
END:VEVENT
BEGIN:VEVENT
DTSTART;TZID=Europe/Berlin:20250523T190000
DTEND;TZID=Europe/Berlin:20250525T160000
DTSTAMP:20260424T154942
CREATED:20241218T135339Z
LAST-MODIFIED:20241219T143150Z
UID:10606-1748026800-1748188800@atelier-lineart.de
SUMMARY:Hände zeichnen
DESCRIPTION:In diesem Wochenendkurs könnte es von der Form in die Fläche gehen. Zunächst werden die TeilnehmerInnen die Glieder der Finger und verschiedenen Teile der Hand studieren und zeichnerisch erfassen; ihre Bewegung\, ihre Oberfläche. Mehr und mehr wird es dann in die Gestaltung der Fläche durch Schraffur und mit Graphit gehen\, in hell und dunkel\, Licht und Schatten. Im dritten Schritt werden wir eine Position suchen\, in der die Haltung des Körpers für die Position der Hände eine Rolle spielt und diesen ansatzweise hinzu nehmen in die gestalterische Umsetzung.\nDer Kurs richtet sich an bildnerisch Gestaltende mit Vorerfahrung.
URL:https://atelier-lineart.de/event/haende-zeichnen/
LOCATION:Atelier lineart
ATTACH;FMTTYPE=image/jpeg:https://atelier-lineart.de/wp-content/uploads/2018/06/Gestrandet.jpg
END:VEVENT
BEGIN:VEVENT
DTSTART;TZID=Europe/Berlin:20250425T190000
DTEND;TZID=Europe/Berlin:20250427T160000
DTSTAMP:20260424T154942
CREATED:20241218T135150Z
LAST-MODIFIED:20241223T143420Z
UID:10604-1745607600-1745769600@atelier-lineart.de
SUMMARY:Radierung (ausgebucht)
DESCRIPTION:In diesem Kurs werden kleine Ergänzungen zum Umgang mit der Aquatinta hinzu gefügt.\nAußerdem steigen wir tiefer ein in den Gebrauch der Farbe beim Drucken. Dazu gehört\, sowohl die Technik des „A la poupee“\, als auch das Übereinander drucken derselben oder zweier Platten. Ziel dabei ist es\, möglichst nahe Töne zu erzeugen\, anstelle harter Farbkontraste.
URL:https://atelier-lineart.de/event/radierung-4/
LOCATION:Atelier lineart
ATTACH;FMTTYPE=image/jpeg:https://atelier-lineart.de/wp-content/uploads/2024/12/Rad.-Zw.toene_.jpg
END:VEVENT
BEGIN:VEVENT
DTSTART;TZID=Europe/Berlin:20250328T190000
DTEND;TZID=Europe/Berlin:20250330T160000
DTSTAMP:20260424T154942
CREATED:20241218T135044Z
LAST-MODIFIED:20241220T124052Z
UID:10602-1743188400-1743350400@atelier-lineart.de
SUMMARY:Radierung (ausgebucht)
DESCRIPTION:In diesem Kurs werden kleine Ergänzungen zum Umgang mit der Aquatinta hinzu gefügt.\nAußerdem steigen wir tiefer ein in den Gebrauch der Farbe beim Drucken. Dazu gehört\, sowohl die Technik des „A la poupee“\, als auch das Übereinander drucken derselben oder zweier Platten. Ziel dabei ist es\, möglichst nahe Töne zu erzeugen\, anstelle harter Farbkontraste.
URL:https://atelier-lineart.de/event/radierung-ausgebucht/
LOCATION:Atelier lineart
ATTACH;FMTTYPE=image/jpeg:https://atelier-lineart.de/wp-content/uploads/2024/12/20070329_20.jpg
END:VEVENT
BEGIN:VEVENT
DTSTART;TZID=Europe/Berlin:20250115T080000
DTEND;TZID=Europe/Berlin:20250125T230000
DTSTAMP:20260424T154942
CREATED:20240213T090402Z
LAST-MODIFIED:20240213T090529Z
UID:8870-1736928000-1737846000@atelier-lineart.de
SUMMARY:Malreise Tenerife
DESCRIPTION:Das Hotel El Navio (adults only) befindet sich inmitten einer Bananenplantage durch welche es fußläufig in 15 Minuten zum Meer geht. Das Hotel hat 14 ebenerdige Zimmer\, alle mit Blick und Terrasse zum Meer. Ein Pool\, ein schönes\, altes Restaurant (für Frühstück und abends für Hotelgäste) und die Urigkeit der Plantage machen diesen Aufenthalt zu einem Ort der Ruhe\, der Inspiration und der Erholung.\nIch biete dort und am Meer in dieser Zeit einen 30stündigen Mal-und Zeichenkurs (300€p/P).\nZimmer (ca 1000€) El Navio\nund Flug (ca 450€)  Tuifly\nwerden von den TeilnehmerInnen selbst gebucht.
URL:https://atelier-lineart.de/event/malreise-tenerife-2/
ATTACH;FMTTYPE=image/jpeg:https://atelier-lineart.de/wp-content/uploads/2024/02/Finca.jpg
END:VEVENT
BEGIN:VEVENT
DTSTART;TZID=Europe/Berlin:20241218T183000
DTEND;TZID=Europe/Berlin:20241218T213000
DTSTAMP:20260424T154942
CREATED:20240603T091431Z
LAST-MODIFIED:20240603T091431Z
UID:9312-1734546600-1734557400@atelier-lineart.de
SUMMARY:Kursabschlussfeier
DESCRIPTION:
URL:https://atelier-lineart.de/event/kursabschlussfeier-4/
ATTACH;FMTTYPE=image/jpeg:https://atelier-lineart.de/wp-content/uploads/2017/12/Bilder-schauen-II.jpg
END:VEVENT
BEGIN:VEVENT
DTSTART;TZID=Europe/Berlin:20241206T190000
DTEND;TZID=Europe/Berlin:20241208T160000
DTSTAMP:20260424T154942
CREATED:20240603T091043Z
LAST-MODIFIED:20240603T091043Z
UID:9310-1733511600-1733673600@atelier-lineart.de
SUMMARY:Wochenendkurs "Hände und Figur"
DESCRIPTION:Die Hände sind in der Darstellung einer menschlichen Position von grosser Bedeutung. Das Können\, bzw NichtKönnen dieses Motives in Bildern bekannter Künstler lässt sich wunderbar studieren. Das Zeichnen von Händen ist zugleich Herausforderung und Befriedigung\, da es sich dabei um ein Motiv in grosser Vielfalt handelt. In diesem Kurs starten wir mit dem Studium der eigenen Hände\, um dann\, je nach Fortschritt und Zeit\, uns Positionen zu suchen\, in denen die Hände einen wichtigen Teil des Bildes einnehmen. Es bleibt zunächst offen\, ob es den TeilnehmerInnen am Sonntag Spass macht damit in die Farbe zu gehen\, oder ob es beim Zeichnen mit Bleistift\, Kohle\, Tusche und/ oder Kreide bleibt.\nEs sollte ein bisschen Erfahrung im Zeichnen generell (nicht unbedingt der Hände/ Figur) vorhanden sein\, da das Motiv auch Vorstellungskraft für Plastizität und Perspektive braucht. \nKosten: 170€ + je nach Bedarf Materialkosten \nFreitag:    19 – 21 Uhr\nSa. + So.: 11 – 16 Uhr
URL:https://atelier-lineart.de/event/wochenendkurs-haende-und-figur/
ATTACH;FMTTYPE=image/jpeg:https://atelier-lineart.de/wp-content/uploads/2018/06/Gestrandet.jpg
END:VEVENT
BEGIN:VEVENT
DTSTART;TZID=Europe/Berlin:20241204T190000
DTEND;TZID=Europe/Berlin:20241204T210000
DTSTAMP:20260424T154942
CREATED:20240603T091747Z
LAST-MODIFIED:20240603T091747Z
UID:9314-1733338800-1733346000@atelier-lineart.de
SUMMARY:Malreise Besprechung
DESCRIPTION:
URL:https://atelier-lineart.de/event/malreise-besprechung/
ATTACH;FMTTYPE=image/jpeg:https://atelier-lineart.de/wp-content/uploads/2024/02/Finca.jpg
END:VEVENT
BEGIN:VEVENT
DTSTART;TZID=Europe/Berlin:20241108T190000
DTEND;TZID=Europe/Berlin:20241110T160000
DTSTAMP:20260424T154942
CREATED:20240603T085259Z
LAST-MODIFIED:20240603T085259Z
UID:9308-1731092400-1731254400@atelier-lineart.de
SUMMARY:Wochenendkurs Acryl und Kreide
DESCRIPTION:Dieser Kurs richtet sich an EinsteigerInnen und Erfahrene gleichermaßen. Am Freitagabend wird es dabei in erster Linie um eine Motivsuche\, das Erstellen einer Skizze und die Vorbereitung des Bildträgers gehen. Danach wird teilweise geplant und teilweise spontan entschieden wo sich Flächen mit Acryfarbe und wo Flächen mit reinem Pigment\, bzw. Kreide befinden sollen. Im Laufe des Malprozesses lassen sich diese Entscheidungen weiter verändern; auf Acryl kann mit Kreide/ Pigment und auf Kreide/ Pigment kann mit Acryl weiter gearbeitet werden. Das macht das Entstehen des Bildes leicht und flexibel und der Prozess als Solches bleibt überraschend. Es spielt dabei keine Rolle\, wie viel Erfahrung dafür im Vorfeld vorhanden ist. Ich begleite den Prozess individuell in Anlehnung an die Idee und die Möglichkeiten der TeilnehmerInnen. \nKosten: 170€ + 20€ Material \nFreitag:  19 – 21 Uhr\nSa + So: 11 – 16 Uhr
URL:https://atelier-lineart.de/event/wochenendkurs-acryl-und-kreide/
ATTACH;FMTTYPE=image/jpeg:https://atelier-lineart.de/wp-content/uploads/2016/11/SANY0411-e1491226051136.jpg
END:VEVENT
BEGIN:VEVENT
DTSTART;TZID=Europe/Berlin:20241025T190000
DTEND;TZID=Europe/Berlin:20241027T160000
DTSTAMP:20260424T154942
CREATED:20240603T083229Z
LAST-MODIFIED:20240603T083428Z
UID:9305-1729882800-1730044800@atelier-lineart.de
SUMMARY:Wochenendkurs Radierung
DESCRIPTION:Dieser Kurs richtet sich an TeilnehmerInnen mit Erfahrungen in der Radierung. In diesem Kurs wird es um einen Prozess gehen\, der einen freieren Umgang mit der Vorbereitung der Druckplatte forciert. Um das zu ermöglichen\, braucht es eine intensivere Übung und Erfahrung in der Zeichnung im Vorfeld. Der Freitagabend dient daher der Suche und Erarbeitung des Motives mit Bleistift und Kohle. Die Bleistiftskizze soll dabei vertraut machen mit dem MOTIV\, während die Kohleskizze klar machen soll wo Fläche und wo Hell und Dunkel „passieren“ soll. Die Techniken auf der Platte werden dafür entsprechend individuell mit mir entschieden\, um der Bildidee so nah wie möglich zu kommen. \nHerzlich willkommen also alle die Lust haben\, die Radierung etwas freier sich auf der Platte entwickeln zu lassen und dafür etwas mehr Aufwand im Vorfeld in Kauf nehmen. \nKosten: 170€ + 20€ Material \nFreitag:  19 – 21 Uhr\nSa + So: 11 – 16 Uhr
URL:https://atelier-lineart.de/event/wochenendkurs-radierung-8/
ATTACH;FMTTYPE=image/jpeg:https://atelier-lineart.de/wp-content/uploads/2016/11/barranco-hondo-001-Kopie.jpg
END:VEVENT
BEGIN:VEVENT
DTSTART;TZID=Europe/Berlin:20240927T190000
DTEND;TZID=Europe/Berlin:20240929T160000
DTSTAMP:20260424T154942
CREATED:20240603T081100Z
LAST-MODIFIED:20240603T081607Z
UID:9301-1727463600-1727625600@atelier-lineart.de
SUMMARY:Wochenendkurs Radierung für EinsteigerInnen
DESCRIPTION:In diesem Kurs geht es um die ersten Grundlagen der Radierung. Nach einer Idee/ Entscheidung für ein Motiv\, welches zunächst als Zeichnung erstellt wird\, wird die Druckplatte vorbereitet. Die TeilnehmerInnen starten in jedem Fall mit einer Strichätzung\, was bedeutet\, dass Linien in einen zuvor aufgetragenen Lack gekratzt werden\, welche dann in einer Säure als Vertiefung in die Platte geätzt wird. Wenn es die Zeit erlaubt\, kann auch eine zweite Technik (die Aquatinta) auf derselben Platte hinzu gefügt werden. Am Sonntag geht es dann mehrheitlich um das Drucken dieser entstandenen Platten. Die Radierung ist ein Handwerk und sollte auch als solches verstanden werden. Das bedeutet\, dass man/ frau Lust haben sollte auf einen handwerklichen\, auch aufwendigen Prozess mit vielen\, kleinen\, ungeplanten Überraschungen. Das Schöne ist\, dass es in JEDEM Fall ein Ergebnis gibt\, dass sich nur so\, nur mit der Sprache der Radierung erzeugen lässt. Und dieses gelingt sofort\, von Anfang an. \nWer also Lust hat\, diese Technik einmal kennen zu lernen\, ist hier herzlich willkommen.\nAuch Erfahrene sind hier herzlich willkommen\, sollten sich aber darauf einstellen\, dass meine Aufmerksamkeit viel bei den EinsteigerInnen liegt. \nKosten: 170€ + 20€ Material \nFreitag:  19 – 21 Uhr\nSa + So: 11 – 16 Uhr
URL:https://atelier-lineart.de/event/wochenendkurs-radierung-fuer-einsteigerinnen/
ATTACH;FMTTYPE=image/jpeg:https://atelier-lineart.de/wp-content/uploads/2020/03/Triptychon-1.-Platte.jpg
END:VEVENT
BEGIN:VEVENT
DTSTART;TZID=Europe/Berlin:20240626T183000
DTEND;TZID=Europe/Berlin:20240626T213000
DTSTAMP:20260424T154942
CREATED:20231211T111140Z
LAST-MODIFIED:20240610T114439Z
UID:8654-1719426600-1719437400@atelier-lineart.de
SUMMARY:Semesterabschluss (intern)
DESCRIPTION:
URL:https://atelier-lineart.de/event/semesterabschluss-intern/
ATTACH;FMTTYPE=image/jpeg:https://atelier-lineart.de/wp-content/uploads/2023/12/IMG-20220629-WA0001.jpg
END:VEVENT
BEGIN:VEVENT
DTSTART;TZID=Europe/Berlin:20240607T190000
DTEND;TZID=Europe/Berlin:20240609T160000
DTSTAMP:20260424T154942
CREATED:20231211T111032Z
LAST-MODIFIED:20231211T133729Z
UID:8652-1717786800-1717948800@atelier-lineart.de
SUMMARY:Malen auf dem Land
DESCRIPTION:Wir werden diese Tage\, soweit es möglich ist\, draussen verbringen. Es werden Skizzen gemacht und Farbskizzen erstellt\, um von da aus dann in „längere“ Arbeiten wie Zeichnungen oder Malerei zu gehen. Das Thema ist die Landschaft. Die Suche richtet sich auf Details\, Landschaftsperspektive oder abstrakte Umsetzungen in Kohle oder Farbe (mehrheitlich Aquarell). \nKosten 170€ \nFreitag 19-21 Uhr\nSa+So  11-16 Uhr
URL:https://atelier-lineart.de/event/malen-auf-dem-land-3/
ATTACH;FMTTYPE=image/jpeg:https://atelier-lineart.de/wp-content/uploads/2021/07/Landsommer.jpg
END:VEVENT
BEGIN:VEVENT
DTSTART;TZID=Europe/Berlin:20240529T190000
DTEND;TZID=Europe/Berlin:20240529T210000
DTSTAMP:20260424T154942
CREATED:20240422T141745Z
LAST-MODIFIED:20240422T142213Z
UID:9180-1717009200-1717016400@atelier-lineart.de
SUMMARY:Infoabend für Malreise 2025
DESCRIPTION:
URL:https://atelier-lineart.de/event/infoabend-fuer-malreise-2025/
ATTACH;FMTTYPE=image/jpeg:https://atelier-lineart.de/wp-content/uploads/2024/02/Finca.jpg
END:VEVENT
BEGIN:VEVENT
DTSTART;TZID=Europe/Berlin:20240522T190000
DTEND;TZID=Europe/Berlin:20240522T220000
DTSTAMP:20260424T154942
CREATED:20231211T132455Z
LAST-MODIFIED:20231213T080434Z
UID:8663-1716404400-1716415200@atelier-lineart.de
SUMMARY:Filmabend (intern)
DESCRIPTION:
URL:https://atelier-lineart.de/event/filmabend-2/
END:VEVENT
BEGIN:VEVENT
DTSTART;TZID=Europe/Berlin:20240502T180000
DTEND;TZID=Europe/Berlin:20240502T210000
DTSTAMP:20260424T154942
CREATED:20240311T084000Z
LAST-MODIFIED:20240311T084000Z
UID:9050-1714672800-1714683600@atelier-lineart.de
SUMMARY:Schnuppermalen
DESCRIPTION:Wer hat Lust\, mal wieder einen Pinsel oder einen Stift in die Hand zu nehmen und ein eigenes Bild entstehen zu lassen? Diese 3 Stunden können dazu dienen\, sich auf dieses Abenteuer für einen kleinen Zeitraum einzulassen\, um auszuprobieren\, ob es Spaß macht. Dabei bleibt es an diesem Abend offen\, ob sich das Ausprobieren mit Acryl\, Kreide\, Aquarell oder anderen Materialien anbietet. Ich werde das mit jeder/m TeilnehmerIn individuell besprechen. Außer „Arbeits“kleidung muss nichts weiter mit gebracht werden. Das Material stelle ich. \nKosten 50€ + 10€ Material
URL:https://atelier-lineart.de/event/schnuppermalen-2/
ATTACH;FMTTYPE=image/jpeg:https://atelier-lineart.de/wp-content/uploads/2017/12/viel-Raum-und-viel-Stille.jpg
END:VEVENT
BEGIN:VEVENT
DTSTART;TZID=Europe/Berlin:20240501T180000
DTEND;TZID=Europe/Berlin:20240501T210000
DTSTAMP:20260424T154942
CREATED:20240311T083610Z
LAST-MODIFIED:20240311T083610Z
UID:9048-1714586400-1714597200@atelier-lineart.de
SUMMARY:Schnuppermalen
DESCRIPTION:Wer hat Lust\, mal wieder einen Pinsel oder einen Stift in die Hand zu nehmen und ein eigenes Bild entstehen zu lassen? Diese 3 Stunden können dazu dienen\, sich auf dieses Abenteuer für einen kleinen Zeitraum einzulassen\, um auszuprobieren\, ob es Spaß macht. Dabei bleibt es an diesem Abend offen\, ob sich das Ausprobieren mit Acryl\, Kreide\, Aquarell oder anderen Materialien anbietet. Ich werde das mit jeder/m TeilnehmerIn individuell besprechen. Außer „Arbeits“kleidung muss nichts weiter mit gebracht werden. Das Material stelle ich. \nKosten 50€ + 10€ Material
URL:https://atelier-lineart.de/event/schnuppermalen/
ATTACH;FMTTYPE=image/jpeg:https://atelier-lineart.de/wp-content/uploads/2020/10/Malsonntag.jpg
END:VEVENT
BEGIN:VEVENT
DTSTART;TZID=Europe/Berlin:20240419T190000
DTEND;TZID=Europe/Berlin:20240421T160000
DTSTAMP:20260424T154942
CREATED:20231211T110933Z
LAST-MODIFIED:20231211T132920Z
UID:8650-1713553200-1713715200@atelier-lineart.de
SUMMARY:RadierWochenendkurs
DESCRIPTION:Kosten: 170€ + 20€ Material \nFreitag von 19 – 21 Uhr\nSa.+So. von 11 – 16 Uhr
URL:https://atelier-lineart.de/event/radierwochenendkurs-6/
ATTACH;FMTTYPE=image/jpeg:https://atelier-lineart.de/wp-content/uploads/2017/08/Da-geht-mir-das-Herz-auf.jpg
END:VEVENT
BEGIN:VEVENT
DTSTART;TZID=Europe/Berlin:20240412T190000
DTEND;TZID=Europe/Berlin:20240414T160000
DTSTAMP:20260424T154942
CREATED:20231211T110821Z
LAST-MODIFIED:20231211T133206Z
UID:8648-1712948400-1713110400@atelier-lineart.de
SUMMARY:RadierWochenendkurs
DESCRIPTION:Kosten: 170€ + 20€ Material \nFreitag von 19 – 21 Uhr\nSa.+So. von 11 – 16 Uhr
URL:https://atelier-lineart.de/event/radierwochenendkurs-5/
ATTACH;FMTTYPE=image/jpeg:https://atelier-lineart.de/wp-content/uploads/2016/12/Im-Fließen-1.jpg
END:VEVENT
BEGIN:VEVENT
DTSTART;TZID=Europe/Berlin:20231220T183000
DTEND;TZID=Europe/Berlin:20231220T220000
DTSTAMP:20260424T154942
CREATED:20230626T120630Z
LAST-MODIFIED:20231211T111208Z
UID:8061-1703097000-1703109600@atelier-lineart.de
SUMMARY:Abschlussabend
DESCRIPTION:
URL:https://atelier-lineart.de/event/abschlussabend/
ATTACH;FMTTYPE=image/jpeg:https://atelier-lineart.de/wp-content/uploads/2017/12/Bilder-schauen-II.jpg
END:VEVENT
BEGIN:VEVENT
DTSTART;TZID=Europe/Berlin:20231122T190000
DTEND;TZID=Europe/Berlin:20231122T220000
DTSTAMP:20260424T154942
CREATED:20230626T120127Z
LAST-MODIFIED:20230920T103325Z
UID:8057-1700679600-1700690400@atelier-lineart.de
SUMMARY:Filmabend
DESCRIPTION:Noch nicht entschieden!
URL:https://atelier-lineart.de/event/filmabend/
END:VEVENT
END:VCALENDAR